BEGIN:VCALENDAR
VERSION:2.0
PRODID:-//Fifth Ward Brewing - ECPv6.15.20//NONSGML v1.0//EN
CALSCALE:GREGORIAN
METHOD:PUBLISH
X-ORIGINAL-URL:https://fifthwardbrewing.com
X-WR-CALDESC:Events for Fifth Ward Brewing
REFRESH-INTERVAL;VALUE=DURATION:PT1H
X-Robots-Tag:noindex
X-PUBLISHED-TTL:PT1H
BEGIN:VTIMEZONE
TZID:America/Chicago
BEGIN:DAYLIGHT
TZOFFSETFROM:-0600
TZOFFSETTO:-0500
TZNAME:CDT
DTSTART:20250309T080000
END:DAYLIGHT
BEGIN:STANDARD
TZOFFSETFROM:-0500
TZOFFSETTO:-0600
TZNAME:CST
DTSTART:20251102T070000
END:STANDARD
BEGIN:DAYLIGHT
TZOFFSETFROM:-0600
TZOFFSETTO:-0500
TZNAME:CDT
DTSTART:20260308T080000
END:DAYLIGHT
BEGIN:STANDARD
TZOFFSETFROM:-0500
TZOFFSETTO:-0600
TZNAME:CST
DTSTART:20261101T070000
END:STANDARD
BEGIN:DAYLIGHT
TZOFFSETFROM:-0600
TZOFFSETTO:-0500
TZNAME:CDT
DTSTART:20270314T080000
END:DAYLIGHT
BEGIN:STANDARD
TZOFFSETFROM:-0500
TZOFFSETTO:-0600
TZNAME:CST
DTSTART:20271107T070000
END:STANDARD
END:VTIMEZONE
BEGIN:VEVENT
DTSTART;TZID=America/Chicago:20260401T183000
DTEND;TZID=America/Chicago:20260401T203000
DTSTAMP:20260424T030446
CREATED:20260323T200909Z
LAST-MODIFIED:20260323T200909Z
UID:7526-1775068200-1775075400@fifthwardbrewing.com
SUMMARY:Trivia in the Taproom - Modern Myths Trivia!
DESCRIPTION:We’re excited to have you join us for Monthly Trivia on April 1st in our Taproom from 6:30-8:30. This month’s theme is Modern Myths! How well do you know these common misconceptions compared to the truth? Show up this month to find out! Teams can consist of up to 6 members.
URL:https://fifthwardbrewing.com/event/trivia-in-the-taproom-modern-myths-trivia/
LOCATION:Fifth Ward Brewing Company\, 1009 S. Main St.\, Oshkosh\, 54902\, United States
ATTACH;FMTTYPE=image/jpeg:https://fifthwardbrewing.com/wp-content/uploads/2026/03/Trivia-in-the-Taproom-34-3-scaled.jpg
END:VEVENT
END:VCALENDAR