BEGIN:VCALENDAR
VERSION:2.0
PRODID:-//Fifth Ward Brewing - ECPv6.15.20//NONSGML v1.0//EN
CALSCALE:GREGORIAN
METHOD:PUBLISH
X-WR-CALNAME:Fifth Ward Brewing
X-ORIGINAL-URL:https://fifthwardbrewing.com
X-WR-CALDESC:Events for Fifth Ward Brewing
REFRESH-INTERVAL;VALUE=DURATION:PT1H
X-Robots-Tag:noindex
X-PUBLISHED-TTL:PT1H
BEGIN:VTIMEZONE
TZID:America/Chicago
BEGIN:DAYLIGHT
TZOFFSETFROM:-0600
TZOFFSETTO:-0500
TZNAME:CDT
DTSTART:20240310T080000
END:DAYLIGHT
BEGIN:STANDARD
TZOFFSETFROM:-0500
TZOFFSETTO:-0600
TZNAME:CST
DTSTART:20241103T070000
END:STANDARD
BEGIN:DAYLIGHT
TZOFFSETFROM:-0600
TZOFFSETTO:-0500
TZNAME:CDT
DTSTART:20250309T080000
END:DAYLIGHT
BEGIN:STANDARD
TZOFFSETFROM:-0500
TZOFFSETTO:-0600
TZNAME:CST
DTSTART:20251102T070000
END:STANDARD
BEGIN:DAYLIGHT
TZOFFSETFROM:-0600
TZOFFSETTO:-0500
TZNAME:CDT
DTSTART:20260308T080000
END:DAYLIGHT
BEGIN:STANDARD
TZOFFSETFROM:-0500
TZOFFSETTO:-0600
TZNAME:CST
DTSTART:20261101T070000
END:STANDARD
BEGIN:DAYLIGHT
TZOFFSETFROM:-0600
TZOFFSETTO:-0500
TZNAME:CDT
DTSTART:20270314T080000
END:DAYLIGHT
BEGIN:STANDARD
TZOFFSETFROM:-0500
TZOFFSETTO:-0600
TZNAME:CST
DTSTART:20271107T070000
END:STANDARD
END:VTIMEZONE
BEGIN:VEVENT
DTSTART;TZID=America/Chicago:20260201T130000
DTEND;TZID=America/Chicago:20260201T150000
DTSTAMP:20260420T122935
CREATED:20260119T203709Z
LAST-MODIFIED:20260119T203709Z
UID:7439-1769950800-1769958000@fifthwardbrewing.com
SUMMARY:Meat Raffle
DESCRIPTION:Join us Sunday\, February 1st from 1-3 PM for our monthly meat raffle!\nWe have 3 rounds\, paddles $2 a piece\, and meat prizes from Wagner’s Meat Market and our very own brews!
URL:https://fifthwardbrewing.com/event/meat-raffle-14/
LOCATION:Fifth Ward Brewing Company\, 1009 S. Main St.\, Oshkosh\, 54902\, United States
ATTACH;FMTTYPE=image/jpeg:https://fifthwardbrewing.com/wp-content/uploads/2025/01/Meat-Raffle-10-scaled.jpg
END:VEVENT
BEGIN:VEVENT
DTSTART;TZID=America/Chicago:20260127T170000
DTEND;TZID=America/Chicago:20260127T200000
DTSTAMP:20260420T122935
CREATED:20260119T203520Z
LAST-MODIFIED:20260119T203520Z
UID:7437-1769533200-1769544000@fifthwardbrewing.com
SUMMARY:Celebrity Bartender Fundraiser - OAHS
DESCRIPTION:Celebrity Bartender Fundraiser at Fifth Ward Brewery Join us for a fun-filled evening supporting a great cause at our Celebrity Bartender Fundraiser on January 27th from 5:00–8:00 PM!\nFor one night only\, the taps will be tended by special guest celebrity bartenders from the Oshkosh Area Humane Society (OAHS). Enjoy your favorite Fifth Ward brews while cheering on the OAHS team as they pour\, serve\, and raise funds for animals in need.\nDuring the event\, $1 from every Standard Pour will be donated directly to OAHS\, along with a percentage of all tips collected throughout the night.Come grab a drink\, support local animal welfare\, and be part of a community collaboration that gives back. Every pint poured helps make a difference—see you there!
URL:https://fifthwardbrewing.com/event/celebrity-bartender-fundraiser-oahs/
ATTACH;FMTTYPE=image/png:https://fifthwardbrewing.com/wp-content/uploads/2026/01/Top-Dog-2026-Entry-2-1920-x-1005-px.png
END:VEVENT
BEGIN:VEVENT
DTSTART;TZID=America/Chicago:20260122T170000
DTEND;TZID=America/Chicago:20260122T200000
DTSTAMP:20260420T122935
CREATED:20251215T212216Z
LAST-MODIFIED:20251215T213702Z
UID:7379-1769101200-1769112000@fifthwardbrewing.com
SUMMARY:Vinyl Night
DESCRIPTION:Join us for our bi-weekly Vinyl Night! \nBring a record to play & get a free drink!
URL:https://fifthwardbrewing.com/event/vinyl-night-34/
LOCATION:Fifth Ward Brewing Company\, 1009 S. Main St.\, Oshkosh\, 54902\, United States
ATTACH;FMTTYPE=image/jpeg:https://fifthwardbrewing.com/wp-content/uploads/2025/10/Updated-Vinyl-Night-Post.jpg
END:VEVENT
BEGIN:VEVENT
DTSTART;TZID=America/Chicago:20260108T170000
DTEND;TZID=America/Chicago:20260108T200000
DTSTAMP:20260420T122935
CREATED:20251215T212053Z
LAST-MODIFIED:20251215T212053Z
UID:7378-1767891600-1767902400@fifthwardbrewing.com
SUMMARY:Vinyl Night
DESCRIPTION:Join us for our bi-weekly Vinyl Night! \nBring a record to play & get a free drink!
URL:https://fifthwardbrewing.com/event/vinyl-night-33/
LOCATION:Fifth Ward Brewing Company\, 1009 S. Main St.\, Oshkosh\, 54902\, United States
ATTACH;FMTTYPE=image/jpeg:https://fifthwardbrewing.com/wp-content/uploads/2025/10/Updated-Vinyl-Night-Post.jpg
END:VEVENT
BEGIN:VEVENT
DTSTART;TZID=America/Chicago:20260107T183000
DTEND;TZID=America/Chicago:20260107T203000
DTSTAMP:20260420T122935
CREATED:20251210T200459Z
LAST-MODIFIED:20251210T200459Z
UID:7365-1767810600-1767817800@fifthwardbrewing.com
SUMMARY:Trivia in the Taproom - Pixar Trivia!
DESCRIPTION:Join us for our monthly Trivia in the Taproom on January 7th from 6:30pm-8:30pm! This month’s theme will be questions all about Pixar Movies!  Put your knowledge to the test! Come in teams of up to 6 for a Well Brewed & Well Deserved night of trivia!\n\nYou Can Pre-Register (And Get One Free Beer) HERE: https://forms.gle/F939Jmtd4R8yqu2b8
URL:https://fifthwardbrewing.com/event/trivia-in-the-taproom-pixar-trivia/
LOCATION:Fifth Ward Brewing Company\, 1009 S. Main St.\, Oshkosh\, 54902\, United States
ATTACH;FMTTYPE=image/jpeg:https://fifthwardbrewing.com/wp-content/uploads/2025/12/Trivia-in-the-Taproom-17-scaled.jpg
END:VEVENT
BEGIN:VEVENT
DTSTART;TZID=America/Chicago:20260104T130000
DTEND;TZID=America/Chicago:20260104T150000
DTSTAMP:20260420T122935
CREATED:20251210T195523Z
LAST-MODIFIED:20251210T195523Z
UID:7362-1767531600-1767538800@fifthwardbrewing.com
SUMMARY:Meat Raffle
DESCRIPTION:Join us Sunday\, January 4th from 1-3 PM for our monthly meat raffle!\nWe have 3 rounds\, paddles $2 a piece\, and meat prizes from Wagner’s Meat Market and our very own brews!
URL:https://fifthwardbrewing.com/event/meat-raffle-13/
LOCATION:Fifth Ward Brewing Company\, 1009 S. Main St.\, Oshkosh\, 54902\, United States
ATTACH;FMTTYPE=image/jpeg:https://fifthwardbrewing.com/wp-content/uploads/2025/01/Meat-Raffle-10-scaled.jpg
END:VEVENT
BEGIN:VEVENT
DTSTART;TZID=America/Chicago:20260102T210000
DTEND;TZID=America/Chicago:20260102T230000
DTSTAMP:20260420T122935
CREATED:20251210T195737Z
LAST-MODIFIED:20251210T195737Z
UID:7363-1767387600-1767394800@fifthwardbrewing.com
SUMMARY:Who's on Fifth - FREE Comedy Show
DESCRIPTION:Join us Friday\, January 2nd from 9 – 11 PM for our monthly FREE Comedy Show!\n\nNow hosted from the Brewery featuring host Matty Fields!
URL:https://fifthwardbrewing.com/event/whos-on-fifth-free-comedy-show-4/
ATTACH;FMTTYPE=image/jpeg:https://fifthwardbrewing.com/wp-content/uploads/2025/11/Whos-on-Fifth-scaled.jpg
END:VEVENT
BEGIN:VEVENT
DTSTART;TZID=America/Chicago:20251220T173000
DTEND;TZID=America/Chicago:20251220T203000
DTSTAMP:20260420T122935
CREATED:20251210T201404Z
LAST-MODIFIED:20251210T201404Z
UID:7367-1766251800-1766262600@fifthwardbrewing.com
SUMMARY:Ugly Sweater Christmas Party!
DESCRIPTION:Join us at Fifth Ward Brewery on December 20th for our annual Ugly Sweater Christmas Party! Wear your most tacky\, colorful\, crazy\, & festive Christmas sweater for your chance to win a $250 first place cash prize! In addition we will have cash and gift card prizes for 2nd through 5th place as well!Here’s the deets:\n Sign Up for the contest ENDS at 6:30pm Exclusive Gingerbread Barleywine Release Holiday Themed Cocktails 1st Place – $250 Cash Prize 2nd Place – $75 Cash Prize 3rd Place – $25 Gift Card 4th & 5th Place – $10 Gift Card
URL:https://fifthwardbrewing.com/event/ugly-sweater-party-2025/
LOCATION:Fifth Ward Brewing Company\, 1009 S. Main St.\, Oshkosh\, 54902\, United States
ATTACH;FMTTYPE=image/jpeg:https://fifthwardbrewing.com/wp-content/uploads/2025/12/Ugly-Sweater-Party-Insta.jpg
END:VEVENT
BEGIN:VEVENT
DTSTART;TZID=America/Chicago:20251207T130000
DTEND;TZID=America/Chicago:20251207T150000
DTSTAMP:20260420T122935
CREATED:20251119T190030Z
LAST-MODIFIED:20251119T190030Z
UID:7269-1765112400-1765119600@fifthwardbrewing.com
SUMMARY:Meat Raffle
DESCRIPTION:Join us Sunday\, December 7th from 1-3 PM for our monthly meat raffle!\nWe have 3 rounds\, paddles $2 a piece\, and meat prizes from Wagner’s Meat Market and our very own brews!
URL:https://fifthwardbrewing.com/event/meat-raffle-12/
LOCATION:Fifth Ward Brewing Company\, 1009 S. Main St.\, Oshkosh\, 54902\, United States
ATTACH;FMTTYPE=image/jpeg:https://fifthwardbrewing.com/wp-content/uploads/2025/01/Meat-Raffle-10-scaled.jpg
END:VEVENT
BEGIN:VEVENT
DTSTART;TZID=America/Chicago:20251205T210000
DTEND;TZID=America/Chicago:20251205T230000
DTSTAMP:20260420T122935
CREATED:20251119T191039Z
LAST-MODIFIED:20251119T191039Z
UID:7270-1764968400-1764975600@fifthwardbrewing.com
SUMMARY:Who's on Fifth - FREE Comedy Show
DESCRIPTION:Join us Friday\, December 5th from 9 – 11 PM for our monthly FREE Comedy Show!\n\nNow hosted from the Brewery featuring host Matty Fields!
URL:https://fifthwardbrewing.com/event/whos-on-fifth-free-comedy-show-3/
ATTACH;FMTTYPE=image/jpeg:https://fifthwardbrewing.com/wp-content/uploads/2025/11/Whos-on-Fifth-scaled.jpg
END:VEVENT
BEGIN:VEVENT
DTSTART;TZID=America/Chicago:20251201T100000
DTEND;TZID=America/Chicago:20260131T230000
DTSTAMP:20260420T122935
CREATED:20251119T204338Z
LAST-MODIFIED:20260107T184543Z
UID:7272-1764583200-1769900400@fifthwardbrewing.com
SUMMARY:Mug Club Membership Sign-Up
DESCRIPTION:We are kicking off the new year with our second annual Mug Club Membership! Join starting December 1st at 10 AM to receive a plethora of benefits throughout the year! \n\nPerks\n\n\n\n\n\n\nLarger Mug 20oz for price of pint\n\nOr $1 off Standard Pours\n\n\nMonthly Member-Only Beer Releases (2-Packs)\n25% off merchandise every day\n10% off to-go beer every day\nTriple Punches on Wednesdays\n50% off Full-Pour Beers from 12 – 4 Fridays (during happy hour)\nFree 4-pack (any tier 1-3) on your birthday\n\nWithin 7 days of actual birthday (Before or After)\n\n\nMug Club Appreciation Party\nMonthly Member Specials/Discounts\nFifth Ward Mug Club T-Shirt and Card\n\n\n\n\n\n\n\n\n\nDuration\n\n\n\n\nJanuary 1st 2026 through December 31st 2026\n\n\n\nNote that your welcome to the Mug Club Shirt and Card will not be given to you at purchase\, our Taproom manager will reach out and get it to you at a later date. Please check your email for more information! If you have questions please reach out to Steph at steph@fifthwardbrewing.com \n  \nThis membership is non-transferable\, and your membership card must be presented at purchase to access benefits.
URL:https://fifthwardbrewing.com/event/mug-club-membership-sign-up/
LOCATION:Fifth Ward Brewing Company\, 1009 S. Main St.\, Oshkosh\, 54902\, United States
ATTACH;FMTTYPE=image/jpeg:https://fifthwardbrewing.com/wp-content/uploads/2025/11/2026.jpg
END:VEVENT
BEGIN:VEVENT
DTSTART;TZID=America/Chicago:20251112T183000
DTEND;TZID=America/Chicago:20251112T203000
DTSTAMP:20260420T122935
CREATED:20251007T215709Z
LAST-MODIFIED:20251007T215709Z
UID:7185-1762972200-1762979400@fifthwardbrewing.com
SUMMARY:Trivia in the Taproom - Fifth Ward Trivia!
DESCRIPTION:Join us for our monthly Trivia in the Taproom on November 12th from 6:30pm-8:30pm! As this will fall directly in the middle of our 8-year Anniversary Week\, our theme for the month will be FIFTH WARD! How well do you know our beers\, our owners\, and our bartenders? Put your knowledge to the test! Come in teams of up to 6 for a Well Brewed & Well Deserved night of trivia!\n\nYou Can Pre-Register (And Get One Free Beer) HERE: https://forms.gle/AQx1ipKxp8nMDYZRA
URL:https://fifthwardbrewing.com/event/trivia-in-the-taproom-fifth-ward-theme/
LOCATION:Fifth Ward Brewing Company\, 1009 S. Main St.\, Oshkosh\, 54902\, United States
ATTACH;FMTTYPE=image/jpeg:https://fifthwardbrewing.com/wp-content/uploads/2025/10/Trivia-in-the-Taproom-3-scaled.jpg
END:VEVENT
BEGIN:VEVENT
DTSTART;TZID=America/Chicago:20251111T170000
DTEND;TZID=America/Chicago:20251111T200000
DTSTAMP:20260420T122935
CREATED:20251022T170632Z
LAST-MODIFIED:20251022T171011Z
UID:7230-1762880400-1762891200@fifthwardbrewing.com
SUMMARY:Tie-Dye Tuesday - 8-Year Anniversary Week!
DESCRIPTION:🎉8️⃣🎊 ANNIVERSARY WEEK IS ON ITS WAY🎊8️⃣🎉 \nThe week of November 10th-15th we are celebrating our 8 YEAR ANNIVERSARY! We have events happening all week long\, not to mention the 6+ NEW BEERS we will be releasing throughout the week! Here’s the schedule for the week! \n  \n👽 Tuesday – Tye-Dye Tuesday (5pm-8pm) – $30 for a Fifth Ward shirt and a guided tye-dye experience! You can purchase tickets for this experience below! Ticket Sales Closes 10/26 EOD! \n  \nNOTE: If you purchase a ticket for the Tie-Dye Tuesday event\, keep an eye on your email\, as we will be sending you a short form to fill out in regards to the size of shirt you would like to dye!
URL:https://fifthwardbrewing.com/event/tie-dye-tuesday/
LOCATION:Fifth Ward Brewing Company\, 1009 S. Main St.\, Oshkosh\, 54902\, United States
ATTACH;FMTTYPE=image/jpeg:https://fifthwardbrewing.com/wp-content/uploads/2025/10/Anniversary-Tuesday.jpg
END:VEVENT
BEGIN:VEVENT
DTSTART;VALUE=DATE:20251111
DTEND;VALUE=DATE:20251116
DTSTAMP:20260420T122935
CREATED:20251014T231536Z
LAST-MODIFIED:20251014T231536Z
UID:7198-1762819200-1763251199@fifthwardbrewing.com
SUMMARY:Fifth Ward 8-Year Anniversary Week!
DESCRIPTION:🎉8️⃣🎊 ANNIVERSARY WEEK IS ON ITS WAY🎊8️⃣🎉 \nThe week of November 10th-15th we are celebrating our 8 YEAR ANNIVERSARY! We have events happening all week long\, not to mention the 6+ NEW BEERS we will be releasing throughout the week! Here’s the schedule for the week! \n  \n👽 Tuesday – Tye-Dye Tuesday (5pm-8pm) $30 for a Fifth Ward shirt and a guided tye-dye experience! You can purchase tickets for this experience below! Ticket Sales Closes 10/26 EOD! \n  \n📚 Wednesday – Fifth Ward Themed Trivia (6:30-8:30pm) How well do you know our beers\, owners\, and bartenders? Put your knowledge to the test and you may go home with Merch and an advanced release of some of our NEW BEERS! \n  \n💿 Thursday – Vinyl Night Extravaganza (5pm-8pm) Our Vinyl night is getting amped up! We’ll be giving out gift cards and merchandise throughout the night! \n  \n🎉Friday – Live Music and Food Trucks  \n🎤Swamp Water Boogie (7pm-10pm) \n🍔Wandering Table (5pm-8pm) \n  \n🎉Saturday – Even MORE Live Music and Food Trucks! \n🎤Hunter Gatherer (12:30-2:30pm) \n🎤Horace Greene (3-6pm) \n🎤Stank Town (7-10pm) \n🍔Wandering Table (12-4pm) \n🍕The Dough Truck (4-8pm)
URL:https://fifthwardbrewing.com/event/8-year-anniversary-week/
LOCATION:Fifth Ward Brewing Company\, 1009 S. Main St.\, Oshkosh\, 54902\, United States
ATTACH;FMTTYPE=image/jpeg:https://fifthwardbrewing.com/wp-content/uploads/2025/10/8th-Anniversary-scaled.jpg
END:VEVENT
BEGIN:VEVENT
DTSTART;TZID=America/Chicago:20251108T150000
DTEND;TZID=America/Chicago:20251108T200000
DTSTAMP:20260420T122935
CREATED:20251007T223302Z
LAST-MODIFIED:20251007T223302Z
UID:7184-1762614000-1762632000@fifthwardbrewing.com
SUMMARY:Sturgeon Spirits Collab Release Party
DESCRIPTION:Fifth Ward Brewery has collaborated with our friends at Sturgeon Spirits to bring our customers a new Oak-Aged Brewer’s Spirit. This spirit is Barrel-Strength at 55%ABV and will be available to purchase in 750mL Bottles (LIMITED QUANTITY AVAILABLE)! Join us on November 8th from 3pm-8pm\, as we will be having a release party at Fifth Ward! We will be serving specialty cocktails with the help of Sturgeon Spirits. There will be food trucks including Wandering Table and the Dough Truck. As well as music from the Alex Wilson Band!
URL:https://fifthwardbrewing.com/event/sturgeon-spirits-collab-party/
LOCATION:Fifth Ward Brewing Company\, 1009 S. Main St.\, Oshkosh\, 54902\, United States
ATTACH;FMTTYPE=image/jpeg:https://fifthwardbrewing.com/wp-content/uploads/2025/10/Sturgeon-Spirits-Collab-scaled.jpg
END:VEVENT
BEGIN:VEVENT
DTSTART;TZID=America/Chicago:20251102T130000
DTEND;TZID=America/Chicago:20251102T150000
DTSTAMP:20260420T122935
CREATED:20251008T175624Z
LAST-MODIFIED:20251008T175624Z
UID:7196-1762088400-1762095600@fifthwardbrewing.com
SUMMARY:Meat Raffle
DESCRIPTION:Join us Sunday\, November 2nd from 1-3 PM for our monthly meat raffle!\nWe have 3 rounds\, paddles $2 a piece\, and meat prizes from Wagner’s Meat Market and our very own brews!
URL:https://fifthwardbrewing.com/event/meat-raffle-11/
LOCATION:Fifth Ward Brewing Company\, 1009 S. Main St.\, Oshkosh\, 54902\, United States
ATTACH;FMTTYPE=image/jpeg:https://fifthwardbrewing.com/wp-content/uploads/2025/01/Meat-Raffle-10-scaled.jpg
END:VEVENT
BEGIN:VEVENT
DTSTART;TZID=America/Chicago:20251101T170000
DTEND;TZID=America/Chicago:20251101T220000
DTSTAMP:20260420T122935
CREATED:20251007T214104Z
LAST-MODIFIED:20251007T214104Z
UID:7182-1762016400-1762034400@fifthwardbrewing.com
SUMMARY:Halloween Spook-tacular!
DESCRIPTION:Don your best costume and join us at Fifth Ward Brewery for our annual Halloween Spooktacular! On November 1st\, come by our taproom from 5pm-10pm for a Halloween party full of BOOs and brews! We’ll have:\nLive Music by JB ILLCostume Contest Featuring Cash PrizesNo Bad Vibes Tattoo Pop-UpFood Truck from Osario’sLimited Release Frootenanny SourHeated Tent In Beer Garden
URL:https://fifthwardbrewing.com/event/halloween-spook-tacular/
LOCATION:Fifth Ward Brewing Company\, 1009 S. Main St.\, Oshkosh\, 54902\, United States
ATTACH;FMTTYPE=image/jpeg:https://fifthwardbrewing.com/wp-content/uploads/2025/10/Halloween-Party-4-scaled.jpg
END:VEVENT
BEGIN:VEVENT
DTSTART;TZID=America/Chicago:20251023T170000
DTEND;TZID=America/Chicago:20251023T200000
DTSTAMP:20260420T122935
CREATED:20251007T230416Z
LAST-MODIFIED:20251007T230416Z
UID:7191-1761238800-1761249600@fifthwardbrewing.com
SUMMARY:Vinyl Night
DESCRIPTION:Join us for our bi-weekly Vinyl Night! \nBring a record to play & get a free drink!
URL:https://fifthwardbrewing.com/event/vinyl-night-32/
LOCATION:Fifth Ward Brewing Company\, 1009 S. Main St.\, Oshkosh\, 54902\, United States
ATTACH;FMTTYPE=image/jpeg:https://fifthwardbrewing.com/wp-content/uploads/2025/10/Updated-Vinyl-Night-Post.jpg
END:VEVENT
BEGIN:VEVENT
DTSTART;TZID=America/Chicago:20251012T123000
DTEND;TZID=America/Chicago:20251012T153000
DTSTAMP:20260420T122935
CREATED:20250915T183813Z
LAST-MODIFIED:20250915T183813Z
UID:7103-1760272200-1760283000@fifthwardbrewing.com
SUMMARY:Diva's on Draft: Drag Brunch
DESCRIPTION:Sunday\, October 12th is our Fourth showcase  of DIVAS ON DRAFT DRAG SHOW! CATEGORY IS – BRUNCH!\n\n\n\nJoin us at 12:30 PM where you can indulge in local breakfast & brunch beverages! Featuring performances with all the glitter & glam! Come early to get your spot and grab a few drinks!\n\n\n\n\n\nTickets are $35\, including 1 drink ticket\, brunch\, and performances from 4 queens! So come on down\, grab your drinks\, let loose\, and get ready to cheer for these incredible artists as they take the stage for Divas on Draft!
URL:https://fifthwardbrewing.com/event/divas-on-draft-drag-brunch-3/
LOCATION:Fifth Ward Brewing Company\, 1009 S. Main St.\, Oshkosh\, 54902\, United States
ATTACH;FMTTYPE=image/jpeg:https://fifthwardbrewing.com/wp-content/uploads/2025/09/Divas-On-Draft.jpg
END:VEVENT
BEGIN:VEVENT
DTSTART;TZID=America/Chicago:20251009T170000
DTEND;TZID=America/Chicago:20251009T200000
DTSTAMP:20260420T122935
CREATED:20251007T230306Z
LAST-MODIFIED:20251007T230306Z
UID:7188-1760029200-1760040000@fifthwardbrewing.com
SUMMARY:Vinyl Night
DESCRIPTION:Join us for our bi-weekly Vinyl Night! \nBring a record to play & get a free drink!
URL:https://fifthwardbrewing.com/event/vinyl-night-31/
LOCATION:Fifth Ward Brewing Company\, 1009 S. Main St.\, Oshkosh\, 54902\, United States
ATTACH;FMTTYPE=image/jpeg:https://fifthwardbrewing.com/wp-content/uploads/2025/10/Updated-Vinyl-Night-Post.jpg
END:VEVENT
BEGIN:VEVENT
DTSTART;VALUE=DATE:20251002
DTEND;VALUE=DATE:20251004
DTSTAMP:20260420T122935
CREATED:20250924T213420Z
LAST-MODIFIED:20250924T213420Z
UID:7152-1759363200-1759535999@fifthwardbrewing.com
SUMMARY:Pups In The Beer Garden
DESCRIPTION:The Christine Ann Center is now accepting animals! We are holding a fundraiser to help make this possible! Join us on Oct 2nd where we will be having pups\, food\, vendors\, and raffle baskets available. Free entry for anyone who would like to join in making this possible!
URL:https://fifthwardbrewing.com/event/pups-in-the-beer-garden/
LOCATION:Fifth Ward Brewing Company\, 1009 S. Main St.\, Oshkosh\, 54902\, United States
ATTACH;FMTTYPE=image/jpeg:https://fifthwardbrewing.com/wp-content/uploads/2025/09/Pups-in-the-Beer-Garden-scaled.jpg
END:VEVENT
BEGIN:VEVENT
DTSTART;TZID=America/Chicago:20251001T183000
DTEND;TZID=America/Chicago:20251001T203000
DTSTAMP:20260420T122935
CREATED:20250924T213114Z
LAST-MODIFIED:20250924T213114Z
UID:7150-1759343400-1759350600@fifthwardbrewing.com
SUMMARY:Trivia in the Taproom - Spooky Trivia
DESCRIPTION:Join us for our monthly Trivia in the Taproom on October 1st! As it will officially be spooky season\, we will be having a spooky themed trivia! From horror movies\, to Halloween\, to real life haunts\, come in teams of up to 6 for a spook-tacular night of trivia!
URL:https://fifthwardbrewing.com/event/trivia-in-the-taproom-spooky/
LOCATION:Fifth Ward Brewing Company\, 1009 S. Main St.\, Oshkosh\, 54902\, United States
ATTACH;FMTTYPE=image/jpeg:https://fifthwardbrewing.com/wp-content/uploads/2025/09/101-Trivia-in-the-Taproom-Poster-1.jpg
END:VEVENT
BEGIN:VEVENT
DTSTART;TZID=America/Chicago:20250919T160000
DTEND;TZID=America/Chicago:20250920T230000
DTSTAMP:20260420T122935
CREATED:20250428T200426Z
LAST-MODIFIED:20250804T205111Z
UID:6972-1758297600-1758409200@fifthwardbrewing.com
SUMMARY:Oshtoberfest 2025
DESCRIPTION:Get your Dirndls and Lederhosen ready for OSHTOBERFEST 2025!!Hosted by Sometimes at Pioneer Island in collaboration with Fifth Ward Brewing Company.\nDetails-September 19-20th\, 2025Sometimes Pioneer Island (1000 Pioneer Dr\, Oshkosh\, WI 54902)Local Food from Pilora’s CafeFifth Ward Brewing Company Craft Beer Live MusicDrinking GamesLimited Edition Collectors Oshtoberfest SteinPrizes!Check back soon for more details!Mark your calendars and grab your steins! Cheers
URL:https://fifthwardbrewing.com/event/oshtoberfest-2025/
LOCATION:Fifth Ward Brewing Company\, 1009 S. Main St.\, Oshkosh\, 54902\, United States
ATTACH;FMTTYPE=image/jpeg:https://fifthwardbrewing.com/wp-content/uploads/2025/04/oshtoberfest-2025-Poster-US.jpg
END:VEVENT
BEGIN:VEVENT
DTSTART;TZID=America/Chicago:20250816T120000
DTEND;TZID=America/Chicago:20250816T200000
DTSTAMP:20260420T122935
CREATED:20250416T204457Z
LAST-MODIFIED:20250514T210104Z
UID:6960-1755345600-1755374400@fifthwardbrewing.com
SUMMARY:FROOTENANNY HOOTENANNY
DESCRIPTION:Come join us on August 16th for our first annual FROOTENANNY HOOTENANNY! This celebration of our iconic frooted sours will include music\, games\, and 12 NEW LIMITED RELEASE Frootenannys! More info to come… be sure to follow our event page on Facebook to keep up to date with details. Mark your calendars\, it’s gonna be a HOOT!
URL:https://fifthwardbrewing.com/event/frootenanny-hootenanny/
LOCATION:Fifth Ward Brewing Company\, 1009 S. Main St.\, Oshkosh\, 54902\, United States
ATTACH;FMTTYPE=image/png:https://fifthwardbrewing.com/wp-content/uploads/2025/04/Frootenanny-Hoot-OF-Logo.png
END:VEVENT
BEGIN:VEVENT
DTSTART;TZID=America/Chicago:20250802T170000
DTEND;TZID=America/Chicago:20250802T200000
DTSTAMP:20260420T122935
CREATED:20250625T202920Z
LAST-MODIFIED:20250625T202920Z
UID:7009-1754154000-1754164800@fifthwardbrewing.com
SUMMARY:Fifth Ward WrestleBash 2025!
DESCRIPTION:Introducing our first ever Fifth Ward Wrestlebash! Join us in our beer garden on August 2nd for an evening of wrestling and fun! Doors open at 5pm and first bell at 6pm. Tickets are $10 each\, and we will have a special beer release just for this event! Follow this page for more information as it comes out!
URL:https://fifthwardbrewing.com/event/wrestlebash-2025/
LOCATION:Fifth Ward Brewing Company\, 1009 S. Main St.\, Oshkosh\, 54902\, United States
ATTACH;FMTTYPE=image/jpeg:https://fifthwardbrewing.com/wp-content/uploads/2025/06/wrestlebash-scaled.jpeg
END:VEVENT
BEGIN:VEVENT
DTSTART;TZID=America/Chicago:20250710T170000
DTEND;TZID=America/Chicago:20250710T200000
DTSTAMP:20260420T122935
CREATED:20250702T193320Z
LAST-MODIFIED:20250702T193320Z
UID:7013-1752166800-1752177600@fifthwardbrewing.com
SUMMARY:Vinyl Night
DESCRIPTION:Join us for our bi-weekly Vinyl Night! \nBring a record to play & get a free drink!
URL:https://fifthwardbrewing.com/event/vinyl-night-30/
LOCATION:Fifth Ward Brewing Company\, 1009 S. Main St.\, Oshkosh\, 54902\, United States
ATTACH;FMTTYPE=image/png:https://fifthwardbrewing.com/wp-content/uploads/2025/04/Fifth-ward-brewing-co.png
END:VEVENT
BEGIN:VEVENT
DTSTART;TZID=America/Chicago:20250702T183000
DTEND;TZID=America/Chicago:20250702T203000
DTSTAMP:20260420T122935
CREATED:20250625T202434Z
LAST-MODIFIED:20250625T202434Z
UID:7007-1751481000-1751488200@fifthwardbrewing.com
SUMMARY:Trivia in the Taproom - U.S. History Themed
DESCRIPTION:Join us for our monthly Trivia in the Taproom on July 2nd! With trivia being so close to Independence Day\, we are doing U.S. History Themed Trivia!
URL:https://fifthwardbrewing.com/event/trivia-in-the-taproom-us-history/
LOCATION:Fifth Ward Brewing Company\, 1009 S. Main St.\, Oshkosh\, 54902\, United States
ATTACH;FMTTYPE=image/jpeg:https://fifthwardbrewing.com/wp-content/uploads/2025/06/72-Trvia-in-the-Taprrom-Poster.jpg
END:VEVENT
BEGIN:VEVENT
DTSTART;TZID=America/Chicago:20250626T170000
DTEND;TZID=America/Chicago:20250626T200000
DTSTAMP:20260420T122935
CREATED:20250514T205017Z
LAST-MODIFIED:20250602T204815Z
UID:6986-1750957200-1750968000@fifthwardbrewing.com
SUMMARY:Vinyl Night
DESCRIPTION:Join us for our bi-weekly Vinyl Night! \nBring a record to play & get a free drink!
URL:https://fifthwardbrewing.com/event/vinyl-night-29/
LOCATION:Fifth Ward Brewing Company\, 1009 S. Main St.\, Oshkosh\, 54902\, United States
ATTACH;FMTTYPE=image/png:https://fifthwardbrewing.com/wp-content/uploads/2025/04/Fifth-ward-brewing-co.png
END:VEVENT
BEGIN:VEVENT
DTSTART;TZID=America/Chicago:20250612T170000
DTEND;TZID=America/Chicago:20250612T200000
DTSTAMP:20260420T122935
CREATED:20250514T204941Z
LAST-MODIFIED:20250514T204941Z
UID:6985-1749747600-1749758400@fifthwardbrewing.com
SUMMARY:Vinyl Night
DESCRIPTION:Join us for our bi-weekly Vinyl Night! \nBring a record to play & get a free drink!
URL:https://fifthwardbrewing.com/event/vinyl-night-28/
LOCATION:Fifth Ward Brewing Company\, 1009 S. Main St.\, Oshkosh\, 54902\, United States
ATTACH;FMTTYPE=image/png:https://fifthwardbrewing.com/wp-content/uploads/2025/04/Fifth-ward-brewing-co.png
END:VEVENT
BEGIN:VEVENT
DTSTART;TZID=America/Chicago:20250604T183000
DTEND;TZID=America/Chicago:20250604T203000
DTSTAMP:20260420T122935
CREATED:20250514T200208Z
LAST-MODIFIED:20250514T203339Z
UID:6981-1749061800-1749069000@fifthwardbrewing.com
SUMMARY:Trivia in the Taproom - Pop Culture Themed
DESCRIPTION:Join us for our monthly Trivia in the Taproom on May 7th! This time around we are doing general Pop Culture Themed Trivia!\nPre-register here
URL:https://fifthwardbrewing.com/event/trivia-in-the-taproom-pop-culture-themed/
LOCATION:Fifth Ward Brewing Company\, 1009 S. Main St.\, Oshkosh\, 54902\, United States
ATTACH;FMTTYPE=image/png:https://fifthwardbrewing.com/wp-content/uploads/2025/05/64-Trvia-in-the-Taprrom-Poster.png
END:VEVENT
END:VCALENDAR