BEGIN:VCALENDAR
VERSION:2.0
PRODID:-//Fifth Ward Brewing - ECPv6.15.20//NONSGML v1.0//EN
CALSCALE:GREGORIAN
METHOD:PUBLISH
X-WR-CALNAME:Fifth Ward Brewing
X-ORIGINAL-URL:https://fifthwardbrewing.com
X-WR-CALDESC:Events for Fifth Ward Brewing
REFRESH-INTERVAL;VALUE=DURATION:PT1H
X-Robots-Tag:noindex
X-PUBLISHED-TTL:PT1H
BEGIN:VTIMEZONE
TZID:America/Chicago
BEGIN:DAYLIGHT
TZOFFSETFROM:-0600
TZOFFSETTO:-0500
TZNAME:CDT
DTSTART:20240310T080000
END:DAYLIGHT
BEGIN:STANDARD
TZOFFSETFROM:-0500
TZOFFSETTO:-0600
TZNAME:CST
DTSTART:20241103T070000
END:STANDARD
BEGIN:DAYLIGHT
TZOFFSETFROM:-0600
TZOFFSETTO:-0500
TZNAME:CDT
DTSTART:20250309T080000
END:DAYLIGHT
BEGIN:STANDARD
TZOFFSETFROM:-0500
TZOFFSETTO:-0600
TZNAME:CST
DTSTART:20251102T070000
END:STANDARD
BEGIN:DAYLIGHT
TZOFFSETFROM:-0600
TZOFFSETTO:-0500
TZNAME:CDT
DTSTART:20260308T080000
END:DAYLIGHT
BEGIN:STANDARD
TZOFFSETFROM:-0500
TZOFFSETTO:-0600
TZNAME:CST
DTSTART:20261101T070000
END:STANDARD
END:VTIMEZONE
BEGIN:VEVENT
DTSTART;VALUE=DATE:20251002
DTEND;VALUE=DATE:20251004
DTSTAMP:20260424T030712
CREATED:20250924T213420Z
LAST-MODIFIED:20250924T213420Z
UID:7152-1759363200-1759535999@fifthwardbrewing.com
SUMMARY:Pups In The Beer Garden
DESCRIPTION:The Christine Ann Center is now accepting animals! We are holding a fundraiser to help make this possible! Join us on Oct 2nd where we will be having pups\, food\, vendors\, and raffle baskets available. Free entry for anyone who would like to join in making this possible!
URL:https://fifthwardbrewing.com/event/pups-in-the-beer-garden/
LOCATION:Fifth Ward Brewing Company\, 1009 S. Main St.\, Oshkosh\, 54902\, United States
ATTACH;FMTTYPE=image/jpeg:https://fifthwardbrewing.com/wp-content/uploads/2025/09/Pups-in-the-Beer-Garden-scaled.jpg
END:VEVENT
BEGIN:VEVENT
DTSTART;TZID=America/Chicago:20251001T183000
DTEND;TZID=America/Chicago:20251001T203000
DTSTAMP:20260424T030712
CREATED:20250924T213114Z
LAST-MODIFIED:20250924T213114Z
UID:7150-1759343400-1759350600@fifthwardbrewing.com
SUMMARY:Trivia in the Taproom - Spooky Trivia
DESCRIPTION:Join us for our monthly Trivia in the Taproom on October 1st! As it will officially be spooky season\, we will be having a spooky themed trivia! From horror movies\, to Halloween\, to real life haunts\, come in teams of up to 6 for a spook-tacular night of trivia!
URL:https://fifthwardbrewing.com/event/trivia-in-the-taproom-spooky/
LOCATION:Fifth Ward Brewing Company\, 1009 S. Main St.\, Oshkosh\, 54902\, United States
ATTACH;FMTTYPE=image/jpeg:https://fifthwardbrewing.com/wp-content/uploads/2025/09/101-Trivia-in-the-Taproom-Poster-1.jpg
END:VEVENT
BEGIN:VEVENT
DTSTART;TZID=America/Chicago:20250919T160000
DTEND;TZID=America/Chicago:20250920T230000
DTSTAMP:20260424T030712
CREATED:20250428T200426Z
LAST-MODIFIED:20250804T205111Z
UID:6972-1758297600-1758409200@fifthwardbrewing.com
SUMMARY:Oshtoberfest 2025
DESCRIPTION:Get your Dirndls and Lederhosen ready for OSHTOBERFEST 2025!!Hosted by Sometimes at Pioneer Island in collaboration with Fifth Ward Brewing Company.\nDetails-September 19-20th\, 2025Sometimes Pioneer Island (1000 Pioneer Dr\, Oshkosh\, WI 54902)Local Food from Pilora’s CafeFifth Ward Brewing Company Craft Beer Live MusicDrinking GamesLimited Edition Collectors Oshtoberfest SteinPrizes!Check back soon for more details!Mark your calendars and grab your steins! Cheers
URL:https://fifthwardbrewing.com/event/oshtoberfest-2025/
LOCATION:Fifth Ward Brewing Company\, 1009 S. Main St.\, Oshkosh\, 54902\, United States
ATTACH;FMTTYPE=image/jpeg:https://fifthwardbrewing.com/wp-content/uploads/2025/04/oshtoberfest-2025-Poster-US.jpg
END:VEVENT
BEGIN:VEVENT
DTSTART;TZID=America/Chicago:20250816T120000
DTEND;TZID=America/Chicago:20250816T200000
DTSTAMP:20260424T030712
CREATED:20250416T204457Z
LAST-MODIFIED:20250514T210104Z
UID:6960-1755345600-1755374400@fifthwardbrewing.com
SUMMARY:FROOTENANNY HOOTENANNY
DESCRIPTION:Come join us on August 16th for our first annual FROOTENANNY HOOTENANNY! This celebration of our iconic frooted sours will include music\, games\, and 12 NEW LIMITED RELEASE Frootenannys! More info to come… be sure to follow our event page on Facebook to keep up to date with details. Mark your calendars\, it’s gonna be a HOOT!
URL:https://fifthwardbrewing.com/event/frootenanny-hootenanny/
LOCATION:Fifth Ward Brewing Company\, 1009 S. Main St.\, Oshkosh\, 54902\, United States
ATTACH;FMTTYPE=image/png:https://fifthwardbrewing.com/wp-content/uploads/2025/04/Frootenanny-Hoot-OF-Logo.png
END:VEVENT
BEGIN:VEVENT
DTSTART;TZID=America/Chicago:20250802T170000
DTEND;TZID=America/Chicago:20250802T200000
DTSTAMP:20260424T030712
CREATED:20250625T202920Z
LAST-MODIFIED:20250625T202920Z
UID:7009-1754154000-1754164800@fifthwardbrewing.com
SUMMARY:Fifth Ward WrestleBash 2025!
DESCRIPTION:Introducing our first ever Fifth Ward Wrestlebash! Join us in our beer garden on August 2nd for an evening of wrestling and fun! Doors open at 5pm and first bell at 6pm. Tickets are $10 each\, and we will have a special beer release just for this event! Follow this page for more information as it comes out!
URL:https://fifthwardbrewing.com/event/wrestlebash-2025/
LOCATION:Fifth Ward Brewing Company\, 1009 S. Main St.\, Oshkosh\, 54902\, United States
ATTACH;FMTTYPE=image/jpeg:https://fifthwardbrewing.com/wp-content/uploads/2025/06/wrestlebash-scaled.jpeg
END:VEVENT
BEGIN:VEVENT
DTSTART;TZID=America/Chicago:20250710T170000
DTEND;TZID=America/Chicago:20250710T200000
DTSTAMP:20260424T030712
CREATED:20250702T193320Z
LAST-MODIFIED:20250702T193320Z
UID:7013-1752166800-1752177600@fifthwardbrewing.com
SUMMARY:Vinyl Night
DESCRIPTION:Join us for our bi-weekly Vinyl Night! \nBring a record to play & get a free drink!
URL:https://fifthwardbrewing.com/event/vinyl-night-30/
LOCATION:Fifth Ward Brewing Company\, 1009 S. Main St.\, Oshkosh\, 54902\, United States
ATTACH;FMTTYPE=image/png:https://fifthwardbrewing.com/wp-content/uploads/2025/04/Fifth-ward-brewing-co.png
END:VEVENT
BEGIN:VEVENT
DTSTART;TZID=America/Chicago:20250702T183000
DTEND;TZID=America/Chicago:20250702T203000
DTSTAMP:20260424T030712
CREATED:20250625T202434Z
LAST-MODIFIED:20250625T202434Z
UID:7007-1751481000-1751488200@fifthwardbrewing.com
SUMMARY:Trivia in the Taproom - U.S. History Themed
DESCRIPTION:Join us for our monthly Trivia in the Taproom on July 2nd! With trivia being so close to Independence Day\, we are doing U.S. History Themed Trivia!
URL:https://fifthwardbrewing.com/event/trivia-in-the-taproom-us-history/
LOCATION:Fifth Ward Brewing Company\, 1009 S. Main St.\, Oshkosh\, 54902\, United States
ATTACH;FMTTYPE=image/jpeg:https://fifthwardbrewing.com/wp-content/uploads/2025/06/72-Trvia-in-the-Taprrom-Poster.jpg
END:VEVENT
BEGIN:VEVENT
DTSTART;TZID=America/Chicago:20250626T170000
DTEND;TZID=America/Chicago:20250626T200000
DTSTAMP:20260424T030712
CREATED:20250514T205017Z
LAST-MODIFIED:20250602T204815Z
UID:6986-1750957200-1750968000@fifthwardbrewing.com
SUMMARY:Vinyl Night
DESCRIPTION:Join us for our bi-weekly Vinyl Night! \nBring a record to play & get a free drink!
URL:https://fifthwardbrewing.com/event/vinyl-night-29/
LOCATION:Fifth Ward Brewing Company\, 1009 S. Main St.\, Oshkosh\, 54902\, United States
ATTACH;FMTTYPE=image/png:https://fifthwardbrewing.com/wp-content/uploads/2025/04/Fifth-ward-brewing-co.png
END:VEVENT
BEGIN:VEVENT
DTSTART;TZID=America/Chicago:20250612T170000
DTEND;TZID=America/Chicago:20250612T200000
DTSTAMP:20260424T030712
CREATED:20250514T204941Z
LAST-MODIFIED:20250514T204941Z
UID:6985-1749747600-1749758400@fifthwardbrewing.com
SUMMARY:Vinyl Night
DESCRIPTION:Join us for our bi-weekly Vinyl Night! \nBring a record to play & get a free drink!
URL:https://fifthwardbrewing.com/event/vinyl-night-28/
LOCATION:Fifth Ward Brewing Company\, 1009 S. Main St.\, Oshkosh\, 54902\, United States
ATTACH;FMTTYPE=image/png:https://fifthwardbrewing.com/wp-content/uploads/2025/04/Fifth-ward-brewing-co.png
END:VEVENT
BEGIN:VEVENT
DTSTART;TZID=America/Chicago:20250604T183000
DTEND;TZID=America/Chicago:20250604T203000
DTSTAMP:20260424T030712
CREATED:20250514T200208Z
LAST-MODIFIED:20250514T203339Z
UID:6981-1749061800-1749069000@fifthwardbrewing.com
SUMMARY:Trivia in the Taproom - Pop Culture Themed
DESCRIPTION:Join us for our monthly Trivia in the Taproom on May 7th! This time around we are doing general Pop Culture Themed Trivia!\nPre-register here
URL:https://fifthwardbrewing.com/event/trivia-in-the-taproom-pop-culture-themed/
LOCATION:Fifth Ward Brewing Company\, 1009 S. Main St.\, Oshkosh\, 54902\, United States
ATTACH;FMTTYPE=image/png:https://fifthwardbrewing.com/wp-content/uploads/2025/05/64-Trvia-in-the-Taprrom-Poster.png
END:VEVENT
BEGIN:VEVENT
DTSTART;TZID=America/Chicago:20250522T170000
DTEND;TZID=America/Chicago:20250522T200000
DTSTAMP:20260424T030712
CREATED:20250428T211106Z
LAST-MODIFIED:20250428T211106Z
UID:6975-1747933200-1747944000@fifthwardbrewing.com
SUMMARY:Vinyl Night
DESCRIPTION:Join us for our bi-weekly Vinyl Night! \nBring a record to play & get a free drink!
URL:https://fifthwardbrewing.com/event/vinyl-night-27/
LOCATION:Fifth Ward Brewing Company\, 1009 S. Main St.\, Oshkosh\, 54902\, United States
ATTACH;FMTTYPE=image/png:https://fifthwardbrewing.com/wp-content/uploads/2025/04/Fifth-ward-brewing-co.png
END:VEVENT
BEGIN:VEVENT
DTSTART;TZID=America/Chicago:20250517T120000
DTEND;TZID=America/Chicago:20250517T160000
DTSTAMP:20260424T030712
CREATED:20250514T204825Z
LAST-MODIFIED:20250514T204825Z
UID:6983-1747483200-1747497600@fifthwardbrewing.com
SUMMARY:Top Dog Beer Release - Oshkosh Area Humane Society
DESCRIPTION:Join us on 5/17 from 12-4pm for the Top Dog Beer Release – Randall’s Radler! The Oshkosh Area Humane Society will be here celebrating! They will be having a 50/50 raffle as well as raffling off some dog-themed gift baskets! Come stop by\, bring your pup\, and have a pint of our newest beer!
URL:https://fifthwardbrewing.com/event/top-dog-beer-oahs/
LOCATION:Fifth Ward Brewing Company\, 1009 S. Main St.\, Oshkosh\, 54902\, United States
ATTACH;FMTTYPE=image/png:https://fifthwardbrewing.com/wp-content/uploads/2025/05/Top-Dog-Randalls.png
END:VEVENT
BEGIN:VEVENT
DTSTART;TZID=America/Chicago:20250508T170000
DTEND;TZID=America/Chicago:20250508T200000
DTSTAMP:20260424T030712
CREATED:20250428T210955Z
LAST-MODIFIED:20250428T210955Z
UID:6974-1746723600-1746734400@fifthwardbrewing.com
SUMMARY:Vinyl Night
DESCRIPTION:Join us for our bi-weekly Vinyl Night! \nBring a record to play & get a free drink!
URL:https://fifthwardbrewing.com/event/vinyl-night-26/
LOCATION:Fifth Ward Brewing Company\, 1009 S. Main St.\, Oshkosh\, 54902\, United States
ATTACH;FMTTYPE=image/png:https://fifthwardbrewing.com/wp-content/uploads/2025/04/Fifth-ward-brewing-co.png
END:VEVENT
BEGIN:VEVENT
DTSTART;TZID=America/Chicago:20250507T183000
DTEND;TZID=America/Chicago:20250507T203000
DTSTAMP:20260424T030712
CREATED:20250416T205146Z
LAST-MODIFIED:20250416T205146Z
UID:6962-1746642600-1746649800@fifthwardbrewing.com
SUMMARY:Trivia in the Taproom - Star Wars Movie Themed
DESCRIPTION:Join us for our monthly Trivia in the Taproom on May 7th! This time around we are doing Star Wars Themed Trivia!\nPre-register here
URL:https://fifthwardbrewing.com/event/trivia-in-the-taproom-star-wars-themed/
LOCATION:Fifth Ward Brewing Company\, 1009 S. Main St.\, Oshkosh\, 54902\, United States
ATTACH;FMTTYPE=image/png:https://fifthwardbrewing.com/wp-content/uploads/2025/04/57-Trvia-in-the-Taprrom-Poster.png
END:VEVENT
BEGIN:VEVENT
DTSTART;TZID=America/Chicago:20250504T130000
DTEND;TZID=America/Chicago:20250504T150000
DTSTAMP:20260424T030712
CREATED:20250428T195454Z
LAST-MODIFIED:20250428T195454Z
UID:6971-1746363600-1746370800@fifthwardbrewing.com
SUMMARY:Meat Raffle
DESCRIPTION:Join us Sunday\, May 4th from 1-3 PM for our monthly meat raffle!\nWe have 3 rounds\, paddles $2 a piece\, and meat prizes from Wagner’s Meat Market and our very own brews!
URL:https://fifthwardbrewing.com/event/meat-raffle-10/
LOCATION:Fifth Ward Brewing Company\, 1009 S. Main St.\, Oshkosh\, 54902\, United States
ATTACH;FMTTYPE=image/jpeg:https://fifthwardbrewing.com/wp-content/uploads/2025/01/Meat-Raffle-10-scaled.jpg
END:VEVENT
BEGIN:VEVENT
DTSTART;TZID=America/Chicago:20250426T130000
DTEND;TZID=America/Chicago:20250426T160000
DTSTAMP:20260424T030712
CREATED:20250416T183713Z
LAST-MODIFIED:20250416T183713Z
UID:6958-1745672400-1745683200@fifthwardbrewing.com
SUMMARY:Breweriana Show
DESCRIPTION:Join us for our bi-annual Breweriana Show! April 26th from 1pm-4pm\, take a look at some iconic beer memorabilia while enjoying a fresh brew from us at Fifth Ward!
URL:https://fifthwardbrewing.com/event/brewerianashow/
LOCATION:Fifth Ward Brewing Company\, 1009 S. Main St.\, Oshkosh\, 54902\, United States
ATTACH;FMTTYPE=image/jpeg:https://fifthwardbrewing.com/wp-content/uploads/2025/04/BGosh-Its-Good-Spring-2025-Flyer.jpg
END:VEVENT
BEGIN:VEVENT
DTSTART;TZID=America/Chicago:20250424T170000
DTEND;TZID=America/Chicago:20250424T200000
DTSTAMP:20260424T030712
CREATED:20250409T204912Z
LAST-MODIFIED:20250409T204912Z
UID:6952-1745514000-1745524800@fifthwardbrewing.com
SUMMARY:Vinyl Night
DESCRIPTION:Join us for our bi-weekly Vinyl Night! \nBring a record to play & get a free drink!
URL:https://fifthwardbrewing.com/event/vinyl-night-25/
LOCATION:Fifth Ward Brewing Company\, 1009 S. Main St.\, Oshkosh\, 54902\, United States
ATTACH;FMTTYPE=image/png:https://fifthwardbrewing.com/wp-content/uploads/2025/04/Fifth-ward-brewing-co.png
END:VEVENT
BEGIN:VEVENT
DTSTART;TZID=America/Chicago:20250410T170000
DTEND;TZID=America/Chicago:20250410T200000
DTSTAMP:20260424T030712
CREATED:20250409T204455Z
LAST-MODIFIED:20250409T204455Z
UID:6950-1744304400-1744315200@fifthwardbrewing.com
SUMMARY:Vinyl Night
DESCRIPTION:Join us for our bi-weekly Vinyl Night! \nBring a record to play & get a free drink!
URL:https://fifthwardbrewing.com/event/vinyl-night-24/
LOCATION:Fifth Ward Brewing Company\, 1009 S. Main St.\, Oshkosh\, 54902\, United States
ATTACH;FMTTYPE=image/png:https://fifthwardbrewing.com/wp-content/uploads/2025/04/Fifth-ward-brewing-co.png
END:VEVENT
BEGIN:VEVENT
DTSTART;TZID=America/Chicago:20250314T180000
DTEND;TZID=America/Chicago:20250314T220000
DTSTAMP:20260424T030712
CREATED:20250303T184127Z
LAST-MODIFIED:20250303T184127Z
UID:6919-1741975200-1741989600@fifthwardbrewing.com
SUMMARY:St. Patrick's Day Celebration
DESCRIPTION:Join us in Celebration of Saint Patrick’s day!\nHave a special green beer & listen to live music featuring – North Wind and the Sun while engaging in green tomfoolery!\nCheers!
URL:https://fifthwardbrewing.com/event/st-patricks-day-celebration/
ATTACH;FMTTYPE=image/jpeg:https://fifthwardbrewing.com/wp-content/uploads/2025/03/Saint-Patricks-Day-Party-scaled.jpg
END:VEVENT
BEGIN:VEVENT
DTSTART;TZID=America/Chicago:20250313T173000
DTEND;TZID=America/Chicago:20250313T203000
DTSTAMP:20260424T030712
CREATED:20250303T183810Z
LAST-MODIFIED:20250303T183810Z
UID:6918-1741887000-1741897800@fifthwardbrewing.com
SUMMARY:Vinyl Night
DESCRIPTION:Join us for our bi-weekly Vinyl Night! \nBring a record to play & get a free drink!
URL:https://fifthwardbrewing.com/event/vinyl-night-23/
LOCATION:Fifth Ward Brewing Company\, 1009 S. Main St.\, Oshkosh\, 54902\, United States
ATTACH;FMTTYPE=image/jpeg:https://fifthwardbrewing.com/wp-content/uploads/2025/01/Vinyl-Night-2.jpg
END:VEVENT
BEGIN:VEVENT
DTSTART;TZID=America/Chicago:20250307T210000
DTEND;TZID=America/Chicago:20250307T230000
DTSTAMP:20260424T030712
CREATED:20250303T183622Z
LAST-MODIFIED:20250303T183622Z
UID:6915-1741381200-1741388400@fifthwardbrewing.com
SUMMARY:Who's on Fifth - FREE Comedy Show
DESCRIPTION:Join us Friday\, March 7th from 9 – 11 PM for our monthly FREE Comedy Show!\n\nNow hosted from the Brewery featuring host Matty Fields!
URL:https://fifthwardbrewing.com/event/whos-on-fifth-free-comedy-show-2/
ATTACH;FMTTYPE=image/jpeg:https://fifthwardbrewing.com/wp-content/uploads/2025/03/Whos-on-Fifth-7-scaled.jpg
END:VEVENT
BEGIN:VEVENT
DTSTART;TZID=America/Chicago:20250305T183000
DTEND;TZID=America/Chicago:20250305T203000
DTSTAMP:20260424T030712
CREATED:20250303T183433Z
LAST-MODIFIED:20250303T183433Z
UID:6913-1741199400-1741206600@fifthwardbrewing.com
SUMMARY:Trivia in the Taproom - Alcohol Themed
DESCRIPTION:Join us for our monthly Trivia in the Taproom! This time around raise a pint for Alcohol Themed Trivia!\nPre-register here: https://forms.gle/wtJWbzwq8PR7CBMfA
URL:https://fifthwardbrewing.com/event/trivia-in-the-taproom-alcohol-themed/
LOCATION:Fifth Ward Brewing Company\, 1009 S. Main St.\, Oshkosh\, 54902\, United States
ATTACH;FMTTYPE=image/jpeg:https://fifthwardbrewing.com/wp-content/uploads/2025/03/Trivia-in-the-Taproom-7-scaled.jpg
END:VEVENT
BEGIN:VEVENT
DTSTART;TZID=America/Chicago:20250227T170000
DTEND;TZID=America/Chicago:20250227T200000
DTSTAMP:20260424T030712
CREATED:20250123T211707Z
LAST-MODIFIED:20250123T211707Z
UID:6865-1740675600-1740686400@fifthwardbrewing.com
SUMMARY:Vinyl Night
DESCRIPTION:Join us for our bi-weekly Vinyl Night! \nBring a record to play & get a free drink!
URL:https://fifthwardbrewing.com/event/vinyl-night-22/
LOCATION:Fifth Ward Brewing Company\, 1009 S. Main St.\, Oshkosh\, 54902\, United States
ATTACH;FMTTYPE=image/jpeg:https://fifthwardbrewing.com/wp-content/uploads/2025/01/Vinyl-Night-2.jpg
END:VEVENT
BEGIN:VEVENT
DTSTART;TZID=America/Chicago:20250225T183000
DTEND;TZID=America/Chicago:20250225T203000
DTSTAMP:20260424T030712
CREATED:20250120T203825Z
LAST-MODIFIED:20250120T203825Z
UID:6847-1740508200-1740515400@fifthwardbrewing.com
SUMMARY:Beer Pairing Dinner
DESCRIPTION:Join us at our first beer dinner of the year hosted right in-house in the Brewery! \nFor $105 you get 6 Exclusive Fifth Ward Beers – some brewed just for this event!\, a delicious 5-course gourmet meal\, and a unique dining experience with Fifth Ward Brewers and Dollar Menu Chefs where they talk about the ins and outs of why it all pairs so good together! \nLimited spots are available so get your tickets today! \n 
URL:https://fifthwardbrewing.com/event/beer-pairing-dinner/
LOCATION:Fifth Ward Brewing Company\, 1009 S. Main St.\, Oshkosh\, 54902\, United States
ATTACH;FMTTYPE=image/jpeg:https://fifthwardbrewing.com/wp-content/uploads/2025/01/Beer-Dinner-Poster-3.jpg
END:VEVENT
BEGIN:VEVENT
DTSTART;TZID=America/Chicago:20250213T170000
DTEND;TZID=America/Chicago:20250213T200000
DTSTAMP:20260424T030712
CREATED:20250123T211635Z
LAST-MODIFIED:20250123T211635Z
UID:6864-1739466000-1739476800@fifthwardbrewing.com
SUMMARY:Vinyl Night
DESCRIPTION:Join us for our bi-weekly Vinyl Night! \nBring a record to play & get a free drink!
URL:https://fifthwardbrewing.com/event/vinyl-night-21/
LOCATION:Fifth Ward Brewing Company\, 1009 S. Main St.\, Oshkosh\, 54902\, United States
ATTACH;FMTTYPE=image/jpeg:https://fifthwardbrewing.com/wp-content/uploads/2025/01/Vinyl-Night-2.jpg
END:VEVENT
BEGIN:VEVENT
DTSTART;TZID=America/Chicago:20250209T123000
DTEND;TZID=America/Chicago:20250209T153000
DTSTAMP:20260424T030712
CREATED:20250107T210232Z
LAST-MODIFIED:20250109T171656Z
UID:6783-1739104200-1739115000@fifthwardbrewing.com
SUMMARY:Diva's on Draft: Drag Brunch
DESCRIPTION:Sunday\, February 9th is our third showcase  of DIVAS ON DRAFT DRAG SHOW! CATEGORY IS – BRUNCH!\n\n\n\nJoin us at 12:30 PM where you can indulge in local breakfast & brunch beverages! Featuring performances with all the glitter & glam! Come early to get your spot and grab a few drinks!\n\n\n\n\n\nShowcasing the talented group of individuals:\n\n\nLoretta Love Lee is a dynamic drag queen from Michigan’s Upper Peninsula\, known for her reign as Miss Gay Madison and Miss Gay Wisconsin USofA. By day\, she’s a skilled tattoo artist at Blue Lotus Tattoo in Madison\, and by night\, she captivates audiences with her electrifying performances. As the owner of Love Lee Reflections\, Loretta was honored as Best Drag Designer at this year’s Wisconsin Drag Awards\, solidifying her reputation as a creative force in both fashion and drag.\n\nMercedes Benzova is a captivating drag queen and the other half of Double D Productions. Known for her sassy attitude and stunning looks\, Mercedes always leaves a lasting impression. You can catch her dazzling performances every Saturday at her home bar\, LaCage\, for the popular show Tucked and Loaded.\n\nJoey Black is a seasoned drag queen with nearly four decades of experience in the entertainment industry. Hailing from Wisconsin\, Joey has built a reputation for her sharp wit\, captivating stage presence\, and edgy style\, blending camp\, comedy\, and charisma. A true veteran of the Midwest drag scene\, Joey Black continues to dazzle audiences with her unique brand of drag excellence.\n\n& Ellah Maeaux\, based in Oshkosh\, Wisconsin\, is a rising star known for her vibrant personality and captivating performances. Currently holding the title of Miss Gay Isthmus\, she brings a unique flair to the stage with her love for pop music. Ellah is our host for Divas on Draft\, where she showcases not only her talent and charisma\, but bringing other talents from around Wisconsin to be showcased right here in the heart of Oshkosh!\n\n\nTickets are $30\, including 1 drink ticket\, brunch\, and performances from 4 queens! So come on down\, grab your drinks\, let loose\, and get ready to cheer for these incredible artists as they take the stage for Divas on Draft!
URL:https://fifthwardbrewing.com/event/divas-on-draft-drag-brunch-2/
LOCATION:Fifth Ward Brewing Company\, 1009 S. Main St.\, Oshkosh\, 54902\, United States
ATTACH;FMTTYPE=image/jpeg:https://fifthwardbrewing.com/wp-content/uploads/2025/01/IMG_3585-scaled.jpeg
END:VEVENT
BEGIN:VEVENT
DTSTART;TZID=America/Chicago:20250208T180000
DTEND;TZID=America/Chicago:20250208T200000
DTSTAMP:20260424T030712
CREATED:20250123T204829Z
LAST-MODIFIED:20250123T204829Z
UID:6857-1739037600-1739044800@fifthwardbrewing.com
SUMMARY:Homebrewing 101 & Brewery Tour
DESCRIPTION:We are pairing up with our local homebrewing club – The Society of Oshkosh Brewers to bring you an opportunity to learn more about homebrewing\, try samples\, & tour the brewery at fifth ward!
URL:https://fifthwardbrewing.com/event/homebrewing-101-brewery-tour/
LOCATION:Fifth Ward Brewing Company\, 1009 S. Main St.\, Oshkosh\, 54902\, United States
ATTACH;FMTTYPE=image/jpeg:https://fifthwardbrewing.com/wp-content/uploads/2025/01/homebrewing-101-brewery-tour.jpg
END:VEVENT
BEGIN:VEVENT
DTSTART;TZID=America/Chicago:20250207T210000
DTEND;TZID=America/Chicago:20250207T230000
DTSTAMP:20260424T030712
CREATED:20250123T210000Z
LAST-MODIFIED:20250123T210000Z
UID:6861-1738962000-1738969200@fifthwardbrewing.com
SUMMARY:Who's on Fifth - Comedy Night
DESCRIPTION:Join us Friday\, Feb. 7th from 9 – 11 PM for our monthly FREE Comedy Show! \nNow hosted from the Brewery featuring host Matty Fields\, and several great comedians!
URL:https://fifthwardbrewing.com/event/whos-on-fifth-comedy-night/
LOCATION:Fifth Ward Brewing Company\, 1009 S. Main St.\, Oshkosh\, 54902\, United States
ATTACH;FMTTYPE=image/jpeg:https://fifthwardbrewing.com/wp-content/uploads/2025/01/Whos-on-Fifth-6-scaled.jpg
END:VEVENT
BEGIN:VEVENT
DTSTART;TZID=America/Chicago:20250205T183000
DTEND;TZID=America/Chicago:20250205T203000
DTSTAMP:20260424T030712
CREATED:20250123T205718Z
LAST-MODIFIED:20250123T205718Z
UID:6859-1738780200-1738787400@fifthwardbrewing.com
SUMMARY:Trivia in the Taproom - Sports Themed
DESCRIPTION:Join us for our monthly Trivia in the Taproom! This time around grab your jerseys and foam fingers because it is SPORTS THEMED!\nPre-register here: https://docs.google.com/forms/d/e/1FAIpQLSdly55oPkNTNN0mJgZbCXMzuRDttsshJjajTGwM6g50QpgTVw/viewform?usp=sharing
URL:https://fifthwardbrewing.com/event/trivia-in-the-taproom-sports-themed/
LOCATION:Fifth Ward Brewing Company\, 1009 S. Main St.\, Oshkosh\, 54902\, United States
ATTACH;FMTTYPE=image/jpeg:https://fifthwardbrewing.com/wp-content/uploads/2025/01/Trivia-in-the-Taproom-6-scaled.jpg
END:VEVENT
BEGIN:VEVENT
DTSTART;TZID=America/Chicago:20250202T130000
DTEND;TZID=America/Chicago:20250202T150000
DTSTAMP:20260424T030712
CREATED:20250123T211008Z
LAST-MODIFIED:20250123T211016Z
UID:6863-1738501200-1738508400@fifthwardbrewing.com
SUMMARY:Meat Raffle
DESCRIPTION:Join us Sunday\, Feb. 2nd from 1-3 PM for our monthly meat raffle! \nWe have 3 rounds\, paddles $2 a piece\, and meat prizes from Wagner’s Meat Market and our very own brews!
URL:https://fifthwardbrewing.com/event/meat-raffle-9/
LOCATION:Fifth Ward Brewing Company\, 1009 S. Main St.\, Oshkosh\, 54902\, United States
ATTACH;FMTTYPE=image/jpeg:https://fifthwardbrewing.com/wp-content/uploads/2025/01/Meat-Raffle-10-scaled.jpg
END:VEVENT
END:VCALENDAR